BEGIN:VCALENDAR
VERSION:2.0
PRODID:-//Libertarian Party of Santa Rosa - ECPv6.8.1//NONSGML v1.0//EN
CALSCALE:GREGORIAN
METHOD:PUBLISH
X-ORIGINAL-URL:https://santarosa.lpf.org
X-WR-CALDESC:Events for Libertarian Party of Santa Rosa
REFRESH-INTERVAL;VALUE=DURATION:PT1H
X-Robots-Tag:noindex
X-PUBLISHED-TTL:PT1H
BEGIN:VTIMEZONE
TZID:UTC
BEGIN:STANDARD
TZOFFSETFROM:+0000
TZOFFSETTO:+0000
TZNAME:UTC
DTSTART:20250101T000000
END:STANDARD
END:VTIMEZONE
BEGIN:VEVENT
DTSTART;TZID=UTC:20250222T140000
DTEND;TZID=UTC:20250222T180000
DTSTAMP:20260420T111034
CREATED:20250218T032335Z
LAST-MODIFIED:20250218T032335Z
UID:400-1740232800-1740247200@santarosa.lpf.org
SUMMARY:LPFSRC February Social and Business Meeting
DESCRIPTION:Join us for Santa Rosa county’s best Libertarian social hour!
URL:https://santarosa.lpf.org/event/lpfsrc-february-social-and-business-meeting/
LOCATION:The Vine Wine Bar\, Bistro & Shoppe\, 8211 Navarre Pkwy\, Navarre\, FL\, 32566\, United States
ORGANIZER;CN="Santa Rosa County LPF affiliate":MAILTO:lpfsrc@gmail.com
END:VEVENT
END:VCALENDAR